BEGIN:VCALENDAR
VERSION:2.0
PRODID:-//Squarespace Inc/Squarespace 6//v6//EN
BEGIN:VEVENT
UID:56e1fc83d51cd40a296c0f3a@squarespace.com
DTSTAMP:20160312T033716Z
DTSTART:20160406T080000Z
DTEND:20160406T120000Z
SUMMARY:Sticky Fingers NZ Tour 2016 - Christchurch
END:VEVENT
END:VCALENDAR
