BEGIN:VCALENDAR
VERSION:2.0
PRODID:-//Squarespace Inc/Squarespace 6//v6//EN
BEGIN:VEVENT
UID:56e38f5522482e1d899b637f@squarespace.com
DTSTAMP:20160312T034057Z
DTSTART:20161227T230000Z
DTEND:20161231T170000Z
SUMMARY:Rhythm and Vines 
END:VEVENT
END:VCALENDAR
