BEGIN:VCALENDAR
VERSION:2.0
PRODID:-//Squarespace Inc/Squarespace 6//v6//EN
BEGIN:VEVENT
UID:56e38be262cd94987f6c9c64@squarespace.com
DTSTAMP:20160312T033732Z
DTSTART:20160408T080000Z
DTEND:20160408T120000Z
SUMMARY:Sticky Fingers NZ Tour 2016 - Wellington
END:VEVENT
END:VCALENDAR
