BEGIN:VCALENDAR
VERSION:2.0
PRODID:-//Squarespace Inc/Squarespace 6//v6//EN
BEGIN:VEVENT
UID:56e38c63b6aa60415bb84e41@squarespace.com
DTSTAMP:20160312T033506Z
DTSTART:20160409T080000Z
DTEND:20160409T120000Z
SUMMARY:Sticky Fingers NZ Tour 2016 - Auckland
END:VEVENT
END:VCALENDAR
