BEGIN:VCALENDAR
VERSION:2.0
PRODID:-//Squarespace Inc/Squarespace 6//v6//EN
BEGIN:VEVENT
UID:56e1fd27ab48deac01d5cb7f@squarespace.com
DTSTAMP:20160312T033832Z
DTSTART:20160407T080000Z
DTEND:20160407T120000Z
SUMMARY:Sticky Fingers NZ Tour 2016 - Dunedin
END:VEVENT
END:VCALENDAR
